BEGIN:VCALENDAR
VERSION:2.0
PRODID:-//Warm Springs Watershed Association - ECPv6.15.12.2//NONSGML v1.0//EN
CALSCALE:GREGORIAN
METHOD:PUBLISH
X-WR-CALNAME:Warm Springs Watershed Association
X-ORIGINAL-URL:https://warmspringswatershed.com
X-WR-CALDESC:Events for Warm Springs Watershed Association
REFRESH-INTERVAL;VALUE=DURATION:PT1H
X-Robots-Tag:noindex
X-PUBLISHED-TTL:PT1H
BEGIN:VTIMEZONE
TZID:America/New_York
BEGIN:DAYLIGHT
TZOFFSETFROM:-0500
TZOFFSETTO:-0400
TZNAME:EDT
DTSTART:20250309T070000
END:DAYLIGHT
BEGIN:STANDARD
TZOFFSETFROM:-0400
TZOFFSETTO:-0500
TZNAME:EST
DTSTART:20251102T060000
END:STANDARD
BEGIN:DAYLIGHT
TZOFFSETFROM:-0500
TZOFFSETTO:-0400
TZNAME:EDT
DTSTART:20260308T070000
END:DAYLIGHT
BEGIN:STANDARD
TZOFFSETFROM:-0400
TZOFFSETTO:-0500
TZNAME:EST
DTSTART:20261101T060000
END:STANDARD
BEGIN:DAYLIGHT
TZOFFSETFROM:-0500
TZOFFSETTO:-0400
TZNAME:EDT
DTSTART:20270314T070000
END:DAYLIGHT
BEGIN:STANDARD
TZOFFSETFROM:-0400
TZOFFSETTO:-0500
TZNAME:EST
DTSTART:20271107T060000
END:STANDARD
END:VTIMEZONE
BEGIN:VEVENT
DTSTART;TZID=America/New_York:20260422T090000
DTEND;TZID=America/New_York:20260422T103000
DTSTAMP:20260422T082734
CREATED:20260205T194843Z
LAST-MODIFIED:20260416T123636Z
UID:10000067-1776848400-1776853800@warmspringswatershed.com
SUMMARY:Wetlands Weeding at Widmyer Elementary School
DESCRIPTION:Join us as we maintain the wetlands next to the circular track at Widmyer Elementary School. Bring gloves & weeding tools. All welcome!
URL:https://warmspringswatershed.com/event/wetlands-weeding-at-widmyer-elementary-school/
LOCATION:Widmyer Elementary School\, 128 Widmyer Circle\, Berkeley Springs\, WV\, 25411\, United States
ATTACH;FMTTYPE=image/jpeg:https://warmspringswatershed.com/wp-content/uploads/2025/10/D24.jpg
END:VEVENT
BEGIN:VEVENT
DTSTART;TZID=America/New_York:20260427T090000
DTEND;TZID=America/New_York:20260427T103000
DTSTAMP:20260422T082734
CREATED:20260416T153054Z
LAST-MODIFIED:20260416T153054Z
UID:10000071-1777280400-1777285800@warmspringswatershed.com
SUMMARY:Adopt-A-Highway Cleanup
DESCRIPTION:Please join WSWA in our continuing efforts to keep our watershed and Berkeley Springs litter-free! We will be safely picking up trash along Rt. 522\, working in pairs or more\, for about 90 minutes. We meet at the Train Depot @9AM and will provide participants with everything needed\, but please bring your own gloves.
URL:https://warmspringswatershed.com/event/adopt-a-highway-cleanup/
LOCATION:Berkeley Springs Train Depot\, 342 N. Washington St.\, Berkeley Springs\, 25411
ATTACH;FMTTYPE=image/jpeg:https://warmspringswatershed.com/wp-content/uploads/2026/04/IMG_4304.jpeg
END:VEVENT
END:VCALENDAR